BEGIN:VCALENDAR
VERSION:2.0
PRODID:-//La Vigilante Athlé Fougères - Club Athlétisme Fougères - ECPv6.15.20//NONSGML v1.0//EN
CALSCALE:GREGORIAN
METHOD:PUBLISH
X-ORIGINAL-URL:https://www.vigilanteathlefougeres.com
X-WR-CALDESC:Évènements pour La Vigilante Athlé Fougères - Club Athlétisme Fougères
REFRESH-INTERVAL;VALUE=DURATION:PT1H
X-Robots-Tag:noindex
X-PUBLISHED-TTL:PT1H
BEGIN:VTIMEZONE
TZID:Europe/Paris
BEGIN:DAYLIGHT
TZOFFSETFROM:+0100
TZOFFSETTO:+0200
TZNAME:CEST
DTSTART:20200329T010000
END:DAYLIGHT
BEGIN:STANDARD
TZOFFSETFROM:+0200
TZOFFSETTO:+0100
TZNAME:CET
DTSTART:20201025T010000
END:STANDARD
BEGIN:DAYLIGHT
TZOFFSETFROM:+0100
TZOFFSETTO:+0200
TZNAME:CEST
DTSTART:20210328T010000
END:DAYLIGHT
BEGIN:STANDARD
TZOFFSETFROM:+0200
TZOFFSETTO:+0100
TZNAME:CET
DTSTART:20211031T010000
END:STANDARD
BEGIN:DAYLIGHT
TZOFFSETFROM:+0100
TZOFFSETTO:+0200
TZNAME:CEST
DTSTART:20220327T010000
END:DAYLIGHT
BEGIN:STANDARD
TZOFFSETFROM:+0200
TZOFFSETTO:+0100
TZNAME:CET
DTSTART:20221030T010000
END:STANDARD
END:VTIMEZONE
BEGIN:VEVENT
DTSTART;TZID=Europe/Paris:20210626T090000
DTEND;TZID=Europe/Paris:20210626T120000
DTSTAMP:20260424T165907
CREATED:20210622T073931Z
LAST-MODIFIED:20210622T195519Z
UID:9877-1624698000-1624708800@www.vigilanteathlefougeres.com
SUMMARY:Animation EA-PO
DESCRIPTION:Le samedi 26 juin matin\, le club propose une animations pour les EA-PO. \nPour cette rencontre\, les clubs de St Marc le Blanc\, Liffré\, Melesse et Combourg seront présents. \nPour les enfants\, une belle matinée de sport en perspective pour COURIR – SAUTER – LANCER !
URL:https://www.vigilanteathlefougeres.com/evenement/animation-ea-po/
LOCATION:Complexe sportif Jean Manfredi\, complexe sportif Jean Manfredy\, Fougéres\, 35300\, France
CATEGORIES:Nos organisations
ATTACH;FMTTYPE=image/jpeg:https://www.vigilanteathlefougeres.com/wp-content/uploads/2021/06/athle.jpg
ORGANIZER;CN="La Vigilante Athl%C3%A9tisme Foug%C3%A8res":MAILTO:secretaire.vigilante.athle@gmail.com
END:VEVENT
END:VCALENDAR