BEGIN:VCALENDAR
VERSION:2.0
PRODID:-//La Vigilante Athlé Fougères - Club Athlétisme Fougères - ECPv6.15.20//NONSGML v1.0//EN
CALSCALE:GREGORIAN
METHOD:PUBLISH
X-ORIGINAL-URL:https://www.vigilanteathlefougeres.com
X-WR-CALDESC:Évènements pour La Vigilante Athlé Fougères - Club Athlétisme Fougères
REFRESH-INTERVAL;VALUE=DURATION:PT1H
X-Robots-Tag:noindex
X-PUBLISHED-TTL:PT1H
BEGIN:VTIMEZONE
TZID:UTC
BEGIN:STANDARD
TZOFFSETFROM:+0000
TZOFFSETTO:+0000
TZNAME:UTC
DTSTART:20210101T000000
END:STANDARD
END:VTIMEZONE
BEGIN:VEVENT
DTSTART;TZID=UTC:20220507T100000
DTEND;TZID=UTC:20220507T180000
DTSTAMP:20260424T001432
CREATED:20220422T145032Z
LAST-MODIFIED:20220503T191515Z
UID:10844-1651917600-1651946400@www.vigilanteathlefougeres.com
SUMMARY:Interclubs 2022 - 1er Tour
DESCRIPTION:La Vigilante Athlétisme est heureuse de vous accueillir pour le 1er tour des Interclubs 2022.\nVous trouverez sur place : tribune – vestiaires – toilettes.\nLa buvette vous proposera des boissons fraiches – chaudes\, des sandwichs et des galettes saucisses. \nA votre arrivée sur le site de Paron Nord\, privilégiez les parkings situés en bas du stade. \naccès – parking \nplan du stade \nprogramme de la compétition \nimplantations et compositions des poules \nrésultats des Interclubs 2019
URL:https://www.vigilanteathlefougeres.com/evenement/interclubs-2022-1er-tour/
LOCATION:Complexe sportif Jean Manfredi\, complexe sportif Jean Manfredy\, Fougéres\, 35300\, France
CATEGORIES:Compétitions,Grands événements,Nos organisations
END:VEVENT
BEGIN:VEVENT
DTSTART;TZID=UTC:20220525T190000
DTEND;TZID=UTC:20220525T220000
DTSTAMP:20260424T001432
CREATED:20220422T171617Z
LAST-MODIFIED:20220509T115444Z
UID:10860-1653505200-1653516000@www.vigilanteathlefougeres.com
SUMMARY:Meeting Evelyne Joannic
DESCRIPTION:Après 2 ans d’interruption le Meeting Evelyne Joannic est de retour.\nLa Vigilante Athlétisme vous donne rendez vous le mercredi 25 mai en soirée \nVoici le programme qui vous est proposé : meeting Evelyne Joannic \nplan du stade – parking/accès \nLes inscriptions sont à faire sur le site du Comité Départemental 35 : www.athle35.athle.org \nDes épreuves sont réservées aux Minimes : 1000 m – 120 m + longueur – disque – marteau – javelot \nVous pouvez nous contacter pour toutes informations complémentaires : secretaire.vigilante.fougeres@gmail.com
URL:https://www.vigilanteathlefougeres.com/evenement/meeting-evelyne-joannic/
LOCATION:FOUGERES
CATEGORIES:Compétitions,Grands événements,Nos organisations
ATTACH;FMTTYPE=image/jpeg:https://www.vigilanteathlefougeres.com/wp-content/uploads/2022/04/evelyne-e1650649427711.jpg
ORGANIZER;CN="La Vigilante Athl%C3%A9tisme Foug%C3%A8res":MAILTO:secretaire.vigilante.athle@gmail.com
END:VEVENT
END:VCALENDAR