BEGIN:VCALENDAR
VERSION:2.0
PRODID:-//La Vigilante Athlé Fougères - Club Athlétisme Fougères - ECPv6.15.20//NONSGML v1.0//EN
CALSCALE:GREGORIAN
METHOD:PUBLISH
X-ORIGINAL-URL:https://www.vigilanteathlefougeres.com
X-WR-CALDESC:Évènements pour La Vigilante Athlé Fougères - Club Athlétisme Fougères
REFRESH-INTERVAL;VALUE=DURATION:PT1H
X-Robots-Tag:noindex
X-PUBLISHED-TTL:PT1H
BEGIN:VTIMEZONE
TZID:Europe/Paris
BEGIN:DAYLIGHT
TZOFFSETFROM:+0100
TZOFFSETTO:+0200
TZNAME:CEST
DTSTART:20220327T010000
END:DAYLIGHT
BEGIN:STANDARD
TZOFFSETFROM:+0200
TZOFFSETTO:+0100
TZNAME:CET
DTSTART:20221030T010000
END:STANDARD
BEGIN:DAYLIGHT
TZOFFSETFROM:+0100
TZOFFSETTO:+0200
TZNAME:CEST
DTSTART:20230326T010000
END:DAYLIGHT
BEGIN:STANDARD
TZOFFSETFROM:+0200
TZOFFSETTO:+0100
TZNAME:CET
DTSTART:20231029T010000
END:STANDARD
BEGIN:DAYLIGHT
TZOFFSETFROM:+0100
TZOFFSETTO:+0200
TZNAME:CEST
DTSTART:20240331T010000
END:DAYLIGHT
BEGIN:STANDARD
TZOFFSETFROM:+0200
TZOFFSETTO:+0100
TZNAME:CET
DTSTART:20241027T010000
END:STANDARD
END:VTIMEZONE
BEGIN:VEVENT
DTSTART;VALUE=DATE:20230630
DTEND;VALUE=DATE:20230701
DTSTAMP:20260423T065629
CREATED:20230417T195120Z
LAST-MODIFIED:20230612T150559Z
UID:11537-1688083200-1688169599@www.vigilanteathlefougeres.com
SUMMARY:Meeting Evelyne Joannic
DESCRIPTION:Le programme ICI
URL:https://www.vigilanteathlefougeres.com/evenement/meeting-evelyne-joannic-2/
LOCATION:FOUGERES
CATEGORIES:Compétitions,Grands événements,Nos organisations
ATTACH;FMTTYPE=image/jpeg:https://www.vigilanteathlefougeres.com/wp-content/uploads/2022/04/evelyne-e1650649427711.jpg
END:VEVENT
END:VCALENDAR