BEGIN:VCALENDAR
VERSION:2.0
PRODID:-//La Vigilante Athlé Fougères - Club Athlétisme Fougères - ECPv6.15.20//NONSGML v1.0//EN
CALSCALE:GREGORIAN
METHOD:PUBLISH
X-WR-CALNAME:La Vigilante Athlé Fougères - Club Athlétisme Fougères
X-ORIGINAL-URL:https://www.vigilanteathlefougeres.com
X-WR-CALDESC:Évènements pour La Vigilante Athlé Fougères - Club Athlétisme Fougères
REFRESH-INTERVAL;VALUE=DURATION:PT1H
X-Robots-Tag:noindex
X-PUBLISHED-TTL:PT1H
BEGIN:VTIMEZONE
TZID:Europe/Paris
BEGIN:DAYLIGHT
TZOFFSETFROM:+0100
TZOFFSETTO:+0200
TZNAME:CEST
DTSTART:20230326T010000
END:DAYLIGHT
BEGIN:STANDARD
TZOFFSETFROM:+0200
TZOFFSETTO:+0100
TZNAME:CET
DTSTART:20231029T010000
END:STANDARD
BEGIN:DAYLIGHT
TZOFFSETFROM:+0100
TZOFFSETTO:+0200
TZNAME:CEST
DTSTART:20240331T010000
END:DAYLIGHT
BEGIN:STANDARD
TZOFFSETFROM:+0200
TZOFFSETTO:+0100
TZNAME:CET
DTSTART:20241027T010000
END:STANDARD
BEGIN:DAYLIGHT
TZOFFSETFROM:+0100
TZOFFSETTO:+0200
TZNAME:CEST
DTSTART:20250330T010000
END:DAYLIGHT
BEGIN:STANDARD
TZOFFSETFROM:+0200
TZOFFSETTO:+0100
TZNAME:CET
DTSTART:20251026T010000
END:STANDARD
END:VTIMEZONE
BEGIN:VEVENT
DTSTART;TZID=Europe/Paris:20240120T173000
DTEND;TZID=Europe/Paris:20240120T193000
DTSTAMP:20260422T213409
CREATED:20240105T175934Z
LAST-MODIFIED:20240107T093426Z
UID:12093-1705771800-1705779000@www.vigilanteathlefougeres.com
SUMMARY:GALETTE DES ROIS
DESCRIPTION:Salle de l’écartelée 92\, rue de la Pellerine à Fougères \nLes horaires :  17h30 – 21h00 \nLa salle ayant une capacité de 80 personnes\, il est vivement conseillé de prévenir de votre présence ou absence via ce lien : \nhttps://xoyondo.com/dp/vwiwdiqjch21dwq \n  \nMerci d’avance
URL:https://www.vigilanteathlefougeres.com/evenement/galette-des-rois/
LOCATION:salle de l’écartellée\, 92 rue de la pellerine\, fougeres\, 35300\, France
CATEGORIES:Grands événements,Nos organisations
END:VEVENT
END:VCALENDAR