BEGIN:VCALENDAR
VERSION:2.0
PRODID:-//La Vigilante Athlé Fougères - Club Athlétisme Fougères - ECPv6.15.20//NONSGML v1.0//EN
CALSCALE:GREGORIAN
METHOD:PUBLISH
X-ORIGINAL-URL:https://www.vigilanteathlefougeres.com
X-WR-CALDESC:Évènements pour La Vigilante Athlé Fougères - Club Athlétisme Fougères
REFRESH-INTERVAL;VALUE=DURATION:PT1H
X-Robots-Tag:noindex
X-PUBLISHED-TTL:PT1H
BEGIN:VTIMEZONE
TZID:Europe/Paris
BEGIN:DAYLIGHT
TZOFFSETFROM:+0100
TZOFFSETTO:+0200
TZNAME:CEST
DTSTART:20230326T010000
END:DAYLIGHT
BEGIN:STANDARD
TZOFFSETFROM:+0200
TZOFFSETTO:+0100
TZNAME:CET
DTSTART:20231029T010000
END:STANDARD
BEGIN:DAYLIGHT
TZOFFSETFROM:+0100
TZOFFSETTO:+0200
TZNAME:CEST
DTSTART:20240331T010000
END:DAYLIGHT
BEGIN:STANDARD
TZOFFSETFROM:+0200
TZOFFSETTO:+0100
TZNAME:CET
DTSTART:20241027T010000
END:STANDARD
BEGIN:DAYLIGHT
TZOFFSETFROM:+0100
TZOFFSETTO:+0200
TZNAME:CEST
DTSTART:20250330T010000
END:DAYLIGHT
BEGIN:STANDARD
TZOFFSETFROM:+0200
TZOFFSETTO:+0100
TZNAME:CET
DTSTART:20251026T010000
END:STANDARD
END:VTIMEZONE
BEGIN:VEVENT
DTSTART;VALUE=DATE:20240420
DTEND;VALUE=DATE:20240422
DTSTAMP:20260422T174952
CREATED:20231225T144149Z
LAST-MODIFIED:20231225T144149Z
UID:12088-1713571200-1713743999@www.vigilanteathlefougeres.com
SUMMARY:Stage club 2024
DESCRIPTION:Après le succès du stage club de vannes en 2023 nous vous proposons de remettre ça le 20 et 21 avril 2024 à sarzeau. \nL’occasion pour chacun de se motiver pour le début de saison estivales et les interclubs. \nOuvert à partir de la catégorie minies\, les modalités d’inscription vous seront présentées au plus tôt
URL:https://www.vigilanteathlefougeres.com/evenement/stage-club-2024/
LOCATION:sarzeau
CATEGORIES:Grands événements,Nos organisations
END:VEVENT
END:VCALENDAR