BEGIN:VCALENDAR
VERSION:2.0
PRODID:-//La Vigilante Athlé Fougères - Club Athlétisme Fougères - ECPv6.15.20//NONSGML v1.0//EN
CALSCALE:GREGORIAN
METHOD:PUBLISH
X-WR-CALNAME:La Vigilante Athlé Fougères - Club Athlétisme Fougères
X-ORIGINAL-URL:https://www.vigilanteathlefougeres.com
X-WR-CALDESC:Évènements pour La Vigilante Athlé Fougères - Club Athlétisme Fougères
REFRESH-INTERVAL;VALUE=DURATION:PT1H
X-Robots-Tag:noindex
X-PUBLISHED-TTL:PT1H
BEGIN:VTIMEZONE
TZID:Europe/Paris
BEGIN:DAYLIGHT
TZOFFSETFROM:+0100
TZOFFSETTO:+0200
TZNAME:CEST
DTSTART:20230326T010000
END:DAYLIGHT
BEGIN:STANDARD
TZOFFSETFROM:+0200
TZOFFSETTO:+0100
TZNAME:CET
DTSTART:20231029T010000
END:STANDARD
BEGIN:DAYLIGHT
TZOFFSETFROM:+0100
TZOFFSETTO:+0200
TZNAME:CEST
DTSTART:20240331T010000
END:DAYLIGHT
BEGIN:STANDARD
TZOFFSETFROM:+0200
TZOFFSETTO:+0100
TZNAME:CET
DTSTART:20241027T010000
END:STANDARD
BEGIN:DAYLIGHT
TZOFFSETFROM:+0100
TZOFFSETTO:+0200
TZNAME:CEST
DTSTART:20250330T010000
END:DAYLIGHT
BEGIN:STANDARD
TZOFFSETFROM:+0200
TZOFFSETTO:+0100
TZNAME:CET
DTSTART:20251026T010000
END:STANDARD
END:VTIMEZONE
BEGIN:VEVENT
DTSTART;TZID=Europe/Paris:20240914T090000
DTEND;TZID=Europe/Paris:20240914T120000
DTSTAMP:20260422T110821
CREATED:20240909T104627Z
LAST-MODIFIED:20240909T104627Z
UID:13310-1726304400-1726315200@www.vigilanteathlefougeres.com
SUMMARY:Kinder athlé
DESCRIPTION:Nous organisons une matinée KInder Athlé le samedi 14 septembre au stade à Paron\nde 9h à 10h30 –> cat PO (2014-2015)\nDe 10h40 à 12h10 –> cat EA (2016-2017-2018)\nCette matinée marquera aussi la reprise pour notre l’Ecole d’Athlétisme.
URL:https://www.vigilanteathlefougeres.com/evenement/kinder-athle/
LOCATION:FOUGERES
CATEGORIES:Nos organisations
END:VEVENT
BEGIN:VEVENT
DTSTART;TZID=Europe/Paris:20240927T180000
DTEND;TZID=Europe/Paris:20240927T200000
DTSTAMP:20260422T110821
CREATED:20240910T063122Z
LAST-MODIFIED:20240910T063122Z
UID:13314-1727460000-1727467200@www.vigilanteathlefougeres.com
SUMMARY:RUN 2k Challenge
DESCRIPTION:Nous organiserons le Run2K Challenge ( sur un parcours de 1 km environ) vendredi 27 septembre à Paron de 18h à 20h. Nous proposerons  également de l’initiation à toutes les autres disciplines qui composent notre beau sport
URL:https://www.vigilanteathlefougeres.com/evenement/run-2k-challenge/
LOCATION:FOUGERES
CATEGORIES:Grands événements,Nos organisations
ATTACH;FMTTYPE=image/png:https://www.vigilanteathlefougeres.com/wp-content/uploads/2024/09/image.png
END:VEVENT
END:VCALENDAR