BEGIN:VCALENDAR
VERSION:2.0
PRODID:-//La Vigilante Athlé Fougères - Club Athlétisme Fougères - ECPv6.15.20//NONSGML v1.0//EN
CALSCALE:GREGORIAN
METHOD:PUBLISH
X-ORIGINAL-URL:https://www.vigilanteathlefougeres.com
X-WR-CALDESC:Évènements pour La Vigilante Athlé Fougères - Club Athlétisme Fougères
REFRESH-INTERVAL;VALUE=DURATION:PT1H
X-Robots-Tag:noindex
X-PUBLISHED-TTL:PT1H
BEGIN:VTIMEZONE
TZID:Europe/Paris
BEGIN:DAYLIGHT
TZOFFSETFROM:+0100
TZOFFSETTO:+0200
TZNAME:CEST
DTSTART:20240331T010000
END:DAYLIGHT
BEGIN:STANDARD
TZOFFSETFROM:+0200
TZOFFSETTO:+0100
TZNAME:CET
DTSTART:20241027T010000
END:STANDARD
BEGIN:DAYLIGHT
TZOFFSETFROM:+0100
TZOFFSETTO:+0200
TZNAME:CEST
DTSTART:20250330T010000
END:DAYLIGHT
BEGIN:STANDARD
TZOFFSETFROM:+0200
TZOFFSETTO:+0100
TZNAME:CET
DTSTART:20251026T010000
END:STANDARD
BEGIN:DAYLIGHT
TZOFFSETFROM:+0100
TZOFFSETTO:+0200
TZNAME:CEST
DTSTART:20260329T010000
END:DAYLIGHT
BEGIN:STANDARD
TZOFFSETFROM:+0200
TZOFFSETTO:+0100
TZNAME:CET
DTSTART:20261025T010000
END:STANDARD
END:VTIMEZONE
BEGIN:VEVENT
DTSTART;TZID=Europe/Paris:20250913T090000
DTEND;TZID=Europe/Paris:20250913T120000
DTSTAMP:20260421T181720
CREATED:20250905T183447Z
LAST-MODIFIED:20250905T183447Z
UID:13785-1757754000-1757764800@www.vigilanteathlefougeres.com
SUMMARY:KINDER JOY OF MOVIE
DESCRIPTION:Un événement clé pour démarrer la saison et faire découvrir l’athlétisme à de nouveaux jeunes pratiquants dans un cadre festif. \n  \nRENDEZ VOUS DE 9H A 12H LE SAMEDI 13 SEPTEMBRE AU STADE DE PARON \n 
URL:https://www.vigilanteathlefougeres.com/evenement/kinder-joy-of-movie/
CATEGORIES:Nos organisations
ATTACH;FMTTYPE=image/jpeg:https://www.vigilanteathlefougeres.com/wp-content/uploads/2025/09/Capture-décran-2025-09-05-à-20.29.03.jpg
END:VEVENT
BEGIN:VEVENT
DTSTART;TZID=Europe/Paris:20250926T183000
DTEND;TZID=Europe/Paris:20250926T200000
DTSTAMP:20260421T181720
CREATED:20250827T145623Z
LAST-MODIFIED:20250827T145623Z
UID:13782-1758911400-1758916800@www.vigilanteathlefougeres.com
SUMMARY:RUN 2K Challenge
DESCRIPTION:Pourquoi venir en club pour le Run 2K Challenge ? \nUn vrai test de rentrée → 2000m\, c’est la distance parfaite pour évaluer ta condition physique et mesurer ta progression ! \nUne ambiance club\, sans engagement → Viens tester gratuitement et découvre comment un club peut booster ta motivation et ton plaisir. \nDes conseils et un chrono officiel → Tu cours aux côtés d’entraîneurs et d’athlètes qui te donneront des conseils sur ta foulée\, ton rythme et ta progression. \nUn moment fun et collectif → Seul\, entre potes ou avec ton équipe\, viens partager un moment convivial et motivant ! \nEt après ? → Envie d’aller plus loin ? Le club pourra t’accompagner sur tes prochains objectifs !
URL:https://www.vigilanteathlefougeres.com/evenement/run-2k-challenge-2/
CATEGORIES:Nos organisations,piste
ATTACH;FMTTYPE=image/jpeg:https://www.vigilanteathlefougeres.com/wp-content/uploads/2025/08/FFA25_RUN2K_1080x1350_reseaux-sociaux.jpg
END:VEVENT
END:VCALENDAR