BEGIN:VCALENDAR
VERSION:2.0
PRODID:-//La Vigilante Athlé Fougères - Club Athlétisme Fougères - ECPv6.15.20//NONSGML v1.0//EN
CALSCALE:GREGORIAN
METHOD:PUBLISH
X-ORIGINAL-URL:https://www.vigilanteathlefougeres.com
X-WR-CALDESC:Évènements pour La Vigilante Athlé Fougères - Club Athlétisme Fougères
REFRESH-INTERVAL;VALUE=DURATION:PT1H
X-Robots-Tag:noindex
X-PUBLISHED-TTL:PT1H
BEGIN:VTIMEZONE
TZID:Europe/Paris
BEGIN:DAYLIGHT
TZOFFSETFROM:+0100
TZOFFSETTO:+0200
TZNAME:CEST
DTSTART:20240331T010000
END:DAYLIGHT
BEGIN:STANDARD
TZOFFSETFROM:+0200
TZOFFSETTO:+0100
TZNAME:CET
DTSTART:20241027T010000
END:STANDARD
BEGIN:DAYLIGHT
TZOFFSETFROM:+0100
TZOFFSETTO:+0200
TZNAME:CEST
DTSTART:20250330T010000
END:DAYLIGHT
BEGIN:STANDARD
TZOFFSETFROM:+0200
TZOFFSETTO:+0100
TZNAME:CET
DTSTART:20251026T010000
END:STANDARD
BEGIN:DAYLIGHT
TZOFFSETFROM:+0100
TZOFFSETTO:+0200
TZNAME:CEST
DTSTART:20260329T010000
END:DAYLIGHT
BEGIN:STANDARD
TZOFFSETFROM:+0200
TZOFFSETTO:+0100
TZNAME:CET
DTSTART:20261025T010000
END:STANDARD
END:VTIMEZONE
BEGIN:VEVENT
DTSTART;TZID=Europe/Paris:20251015T180000
DTEND;TZID=Europe/Paris:20251015T200000
DTSTAMP:20260421T164754
CREATED:20250906T061811Z
LAST-MODIFIED:20250906T061811Z
UID:13794-1760551200-1760558400@www.vigilanteathlefougeres.com
SUMMARY:TEST VMA SATDE DE PARON
DESCRIPTION:Présentation du test \nC’est un test de course à pied qui permet d’évaluer votre Vitesse Maximale Aérobie (VMA) à un moment T. \n Les vitesses de course sont réglées au moyen d’une bande sonore émettant des bips à chaque intervalle calculé. A chaque bip\, vous devez ajuster vous-même votre vitesse afin de vous retrouver exactement au niveau des plots placés tous les 20 m. \nSur ce test\, on autorise un retard de plus ou moins 1 à 2 m avant les repères. \nAprès avoir adapté votre vitesse\, il faut essayer de suivre le rythme imposé le plus longtemps possible et s’arrêter dès que l’on pense ne plus pouvoir courir plus vite ou bien qu’il vous paraisse impossible de terminer le palier en cours. \n\nBut : La VMA est un indicateur important de votre état de forme ; elle permet aux entraîneurs de construire des plans d’entraînements efficaces en vue de progresser. \n\nMerci d’arriver au stade 20 à 30 min avant le départ du test \n\nSportivement
URL:https://www.vigilanteathlefougeres.com/evenement/test-vma-satde-de-paron/
CATEGORIES:Nos organisations,piste
ATTACH;FMTTYPE=image/jpeg:https://www.vigilanteathlefougeres.com/wp-content/uploads/2025/09/Capture-décran-2025-09-06-à-08.16.48.jpg
END:VEVENT
BEGIN:VEVENT
DTSTART;TZID=Europe/Paris:20251017T180000
DTEND;TZID=Europe/Paris:20251017T200000
DTSTAMP:20260421T164754
CREATED:20250906T061922Z
LAST-MODIFIED:20250906T061922Z
UID:13797-1760724000-1760731200@www.vigilanteathlefougeres.com
SUMMARY:TEST VMA
DESCRIPTION:Présentation du test \nC’est un test de course à pied qui permet d’évaluer votre Vitesse Maximale Aérobie (VMA) à un moment T. \n Les vitesses de course sont réglées au moyen d’une bande sonore émettant des bips à chaque intervalle calculé. A chaque bip\, vous devez ajuster vous-même votre vitesse afin de vous retrouver exactement au niveau des plots placés tous les 20 m. \nSur ce test\, on autorise un retard de plus ou moins 1 à 2 m avant les repères. \nAprès avoir adapté votre vitesse\, il faut essayer de suivre le rythme imposé le plus longtemps possible et s’arrêter dès que l’on pense ne plus pouvoir courir plus vite ou bien qu’il vous paraisse impossible de terminer le palier en cours. \n\nBut : La VMA est un indicateur important de votre état de forme ; elle permet aux entraîneurs de construire des plans d’entraînements efficaces en vue de progresser. \n\nMerci d’arriver au stade 20 à 30 min avant le départ du test \n\nSportivement
URL:https://www.vigilanteathlefougeres.com/evenement/test-vma/
CATEGORIES:Nos organisations,piste
ATTACH;FMTTYPE=image/jpeg:https://www.vigilanteathlefougeres.com/wp-content/uploads/2025/09/Capture-décran-2025-09-06-à-08.16.48.jpg
END:VEVENT
END:VCALENDAR