BEGIN:VCALENDAR
VERSION:2.0
PRODID:-//La Vigilante Athlé Fougères - Club Athlétisme Fougères - ECPv6.15.20//NONSGML v1.0//EN
CALSCALE:GREGORIAN
METHOD:PUBLISH
X-WR-CALNAME:La Vigilante Athlé Fougères - Club Athlétisme Fougères
X-ORIGINAL-URL:https://www.vigilanteathlefougeres.com
X-WR-CALDESC:Évènements pour La Vigilante Athlé Fougères - Club Athlétisme Fougères
REFRESH-INTERVAL;VALUE=DURATION:PT1H
X-Robots-Tag:noindex
X-PUBLISHED-TTL:PT1H
BEGIN:VTIMEZONE
TZID:Europe/Paris
BEGIN:DAYLIGHT
TZOFFSETFROM:+0100
TZOFFSETTO:+0200
TZNAME:CEST
DTSTART:20250330T010000
END:DAYLIGHT
BEGIN:STANDARD
TZOFFSETFROM:+0200
TZOFFSETTO:+0100
TZNAME:CET
DTSTART:20251026T010000
END:STANDARD
BEGIN:DAYLIGHT
TZOFFSETFROM:+0100
TZOFFSETTO:+0200
TZNAME:CEST
DTSTART:20260329T010000
END:DAYLIGHT
BEGIN:STANDARD
TZOFFSETFROM:+0200
TZOFFSETTO:+0100
TZNAME:CET
DTSTART:20261025T010000
END:STANDARD
BEGIN:DAYLIGHT
TZOFFSETFROM:+0100
TZOFFSETTO:+0200
TZNAME:CEST
DTSTART:20270328T010000
END:DAYLIGHT
BEGIN:STANDARD
TZOFFSETFROM:+0200
TZOFFSETTO:+0100
TZNAME:CET
DTSTART:20271031T010000
END:STANDARD
END:VTIMEZONE
BEGIN:VEVENT
DTSTART;VALUE=DATE:20260221
DTEND;VALUE=DATE:20260223
DTSTAMP:20260421T094935
CREATED:20250826T145436Z
LAST-MODIFIED:20250826T145436Z
UID:13731-1771632000-1771804799@www.vigilanteathlefougeres.com
SUMMARY:Championnat de france U18 U20 en salle
DESCRIPTION:
URL:https://www.vigilanteathlefougeres.com/evenement/championnat-de-france-u18-u20-en-salle/
CATEGORIES:Compétitions,Nos organisations,Salle
END:VEVENT
END:VCALENDAR